BEGIN:VCALENDAR
VERSION:2.0
PRODID:-//ChamberMaster//Event Calendar 2.0//EN
METHOD:PUBLISH
X-PUBLISHED-TTL:P3D
REFRESH-INTERVAL:P3D
CALSCALE:GREGORIAN
BEGIN:VEVENT
DTSTART:20181215T170000Z
DTEND:20181215T180000Z
X-MICROSOFT-CDO-ALLDAYEVENT:FALSE
SUMMARY:Wreaths Across America Hosted by Rest Haven
DESCRIPTION:Rest Haven Memorial Park is honored to be a designated cemetery for Wreaths Across America again this year. Please save the date and visit this Events page for more details. You can register to volunteer at our event and/or donate a wreath here. You may also attend the ceremony without volunteering or donating.\n\nThe deadline to donate a wreath online is December 3\, 2018.
X-ALT-DESC;FMTTYPE=text/html:<span style="color:rgb(31\, 34\, 40)\; font-family:sofia pro light\,arial\,sans-serif\; font-size:18px">Rest Haven Memorial Park is honored to be a designated cemetery for Wreaths Across America again this year. Please save the date and visit this Events page for more details. You can register to volunteer at our event and/or donate a wreath&nbsp\;</span><a href="https://www.wreathsacrossamerica.org/pages/17195/Overview/?relatedId=0" style="box-sizing: border-box\; background-image: initial\; background-position: 0px 0px\; background-size: initial\; background-repeat: initial\; background-attachment: initial\; background-origin: initial\; background-clip: initial\; color: rgb(131\, 205\, 126)\; text-decoration-line: none\; word-break: break-all\; font-family: &quot\;Sofia Pro Light&quot\;\, Arial\, sans-serif\; font-size: 18px\; letter-spacing: -0.27px\;" target="_blank">here</a><span style="color:rgb(31\, 34\, 40)\; font-family:sofia pro light\,arial\,sans-serif\; font-size:18px">. You may also attend the ceremony without volunteering or donating.<br />\nThe deadline to donate a wreath online is December 3\, 2018.</span>
LOCATION:Rest Haven Memorial Park 2500 State Hwy 66 East Rockwall\, TX 75087
UID:e.1175.138561
SEQUENCE:3
DTSTAMP:20260425T004739Z
URL:http://rockwallvisitorscaptivate.preview.gochambermaster.com/events/details/wreaths-across-america-hosted-by-rest-haven-138561
END:VEVENT

END:VCALENDAR
