BEGIN:VCALENDAR
VERSION:2.0
PRODID:-//ChamberMaster//Event Calendar 2.0//EN
METHOD:PUBLISH
X-PUBLISHED-TTL:P3D
REFRESH-INTERVAL:P3D
CALSCALE:GREGORIAN
BEGIN:VEVENT
DTSTART:20181117T180000Z
DTEND:20181117T200000Z
X-MICROSOFT-CDO-ALLDAYEVENT:FALSE
SUMMARY:We Are Rockwall Community Thanksgiving Meal
DESCRIPTION:Annual Community-Wide FREE Thanksgiving Meal is designed to bring the Rockwall Community together for a few hours to celebrate God's goodness and give thanks. The food is amazing and the booths are fun.
X-ALT-DESC;FMTTYPE=text/html:<div>\n<div>\n<div>\n<p><span style="font-family:arialmt\; font-size:11pt">Annual Community-Wide&nbsp\;</span><span style="color:rgb(255\, 0\, 0)\; font-family:arial\,bold\; font-size:13pt">FREE&nbsp\;</span><span style="font-family:arialmt\; font-size:11pt">Thanksgiving Meal is designed to bring the Rockwall Community together for a few hours to celebrate God&rsquo\;s goodness and give thanks. The food is amazing and the booths are fun.</span></p>\n</div>\n</div>\n</div>\n
LOCATION:Cain Middle School 6620 FM 3097 Rockwall\, TX 75032
UID:e.1175.138576
SEQUENCE:3
DTSTAMP:20260425T005240Z
URL:http://rockwallvisitorscaptivate.preview.gochambermaster.com/events/details/we-are-rockwall-community-thanksgiving-meal-138576
END:VEVENT

END:VCALENDAR
