BEGIN:VCALENDAR
VERSION:2.0
PRODID:-//ChamberMaster//Event Calendar 2.0//EN
METHOD:PUBLISH
X-PUBLISHED-TTL:P3D
REFRESH-INTERVAL:P3D
CALSCALE:GREGORIAN
BEGIN:VEVENT
DTSTART;VALUE=DATE:20201116
DTEND;VALUE=DATE:20201117
TRANSP:TRANSPARENT
X-MICROSOFT-CDO-ALLDAYEVENT:TRUE
SUMMARY:The Tubby Adkisson Mobile Mammography Coach
DESCRIPTION:Tubby Adkisson Mobile Mammography Coach
X-ALT-DESC;FMTTYPE=text/html:Tubby Adkisson Mobile Mammography Coach
LOCATION:Belk - Plaza at Rockwall 1027 E Interstate 30\, Rockwall\, TX 75087
UID:e.1175.139332
SEQUENCE:3
DTSTAMP:20260420T164513Z
URL:http://rockwallvisitorscaptivate.preview.gochambermaster.com/events/details/the-tubby-adkisson-mobile-mammography-coach-139332
END:VEVENT

END:VCALENDAR
