BEGIN:VCALENDAR
VERSION:2.0
PRODID:-//ChamberMaster//Event Calendar 2.0//EN
METHOD:PUBLISH
X-PUBLISHED-TTL:P3D
REFRESH-INTERVAL:P3D
CALSCALE:GREGORIAN
BEGIN:VEVENT
DTSTART:20181111T200000Z
DTEND:20181111T200000Z
X-MICROSOFT-CDO-ALLDAYEVENT:FALSE
SUMMARY:The 100th Anniversary of the End of the GREAT WAR
DESCRIPTION:World War I ended on November 11\, 1918 at 11:00 AM with the signing of Armistice in a rail car outside of Paris\, France. Twenty One (21) Rockwall County Service Members made the ultimate sacrifice during the Great War. The Veterans Memorial in Rockwall\, Texas will be site of a special ceremony to remember the cost and the truly remarkable effort of the American People during this War. The Memorial is next to the Courthouse at 1111 East Yellowjacket Lane. Recognition of this historic day will be on Sunday\, November 11\, 2018\, at 2:00 PM. The event will be presented by the Terry Fisher American Legion Post 117 and Rockwall County Historical Commission. Participants in the program will include elected officials\, retired military personnel\; Boy Scouts\, Texas Highway Patrol\, Bagpiper\, and Biplane fly over (weather permitting). Plan to attend this historic occasion.
X-ALT-DESC;FMTTYPE=text/html:World War I ended on November 11\, 1918 at 11:00 AM with the signing of Armistice in a rail car outside of Paris\, France. Twenty One (21) Rockwall County Service Members made the ultimate sacrifice during the Great War. The Veterans Memorial in Rockwall\, Texas will be site of a special ceremony to remember the cost and the truly remarkable effort of the American People during this War. The Memorial is next to the Courthouse at 1111 East Yellowjacket Lane. Recognition of this historic day will be on Sunday\, November 11\, 2018\, at 2:00 PM. The event will be presented by the Terry Fisher American Legion Post 117 and Rockwall County Historical Commission. Participants in the program will include elected officials\, retired military personnel\; Boy Scouts\, Texas Highway Patrol\, Bagpiper\, and Biplane fly over (weather permitting). Plan to attend this historic occasion.
LOCATION:Next to the Courthouse at 1111 East Yellowjacket Lane
UID:e.1175.138586
SEQUENCE:3
DTSTAMP:20260425T005435Z
URL:http://rockwallvisitorscaptivate.preview.gochambermaster.com/events/details/the-100th-anniversary-of-the-end-of-the-great-war-138586
END:VEVENT

END:VCALENDAR
