BEGIN:VCALENDAR
VERSION:2.0
PRODID:-//ChamberMaster//Event Calendar 2.0//EN
METHOD:PUBLISH
X-PUBLISHED-TTL:P3D
REFRESH-INTERVAL:P3D
CALSCALE:GREGORIAN
BEGIN:VEVENT
DTSTART:20181012T123000Z
DTEND:20181012T130000Z
X-MICROSOFT-CDO-ALLDAYEVENT:FALSE
SUMMARY:Rockwall County Vigil for Domestic Violence Victims
DESCRIPTION:Please join Women In Need on the Rockwall County Courthouse steps for our annual Vigil for victims of Domestic Violence. The vigil is for the community to spend time supporting victims & survivors of Domestic Violence.
X-ALT-DESC;FMTTYPE=text/html:Please join Women In Need on the Rockwall County Courthouse steps for our annual Vigil for victims of Domestic Violence. The vigil is for the community to spend time supporting victims &amp\; survivors of Domestic Violence.
LOCATION:Rockwall County Courthouse 1111 W Yellowjacket Ln Rockwall\, TX 75087
UID:e.1175.138425
SEQUENCE:3
DTSTAMP:20260425T104359Z
URL:http://rockwallvisitorscaptivate.preview.gochambermaster.com/events/details/rockwall-county-vigil-for-domestic-violence-victims-138425
END:VEVENT

END:VCALENDAR
