BEGIN:VCALENDAR
VERSION:2.0
PRODID:-//ChamberMaster//Event Calendar 2.0//EN
METHOD:PUBLISH
X-PUBLISHED-TTL:P3D
REFRESH-INTERVAL:P3D
CALSCALE:GREGORIAN
BEGIN:VEVENT
DTSTART:20180711T182000Z
DTEND:20180711T192000Z
X-MICROSOFT-CDO-ALLDAYEVENT:FALSE
SUMMARY:Ribbon Cutting - Genghis Grill
DESCRIPTION:Ribbon Cutting - Genghis Grill
X-ALT-DESC;FMTTYPE=text/html:Ribbon Cutting - Genghis Grill&nbsp\;&nbsp\;&nbsp\;&nbsp\;&nbsp\;&nbsp\;&nbsp\;&nbsp\;
LOCATION:
UID:e.1175.138377
SEQUENCE:3
DTSTAMP:20260425T190616Z
URL:http://rockwallvisitorscaptivate.preview.gochambermaster.com/events/details/ribbon-cutting-genghis-grill-138377
END:VEVENT

END:VCALENDAR
