BEGIN:VCALENDAR
VERSION:2.0
PRODID:-//ChamberMaster//Event Calendar 2.0//EN
METHOD:PUBLISH
X-PUBLISHED-TTL:P3D
REFRESH-INTERVAL:P3D
CALSCALE:GREGORIAN
BEGIN:VEVENT
DTSTART:20180818T140000Z
DTEND:20180818T170000Z
X-MICROSOFT-CDO-ALLDAYEVENT:FALSE
SUMMARY:RGA Anniversary Party
DESCRIPTION:Come join Rockwall Gymnastics Academy celebrate their first year in business. We will have a ribbon cutting\, gymnastics activities\, food and a lot of fun!
X-ALT-DESC;FMTTYPE=text/html:Come join Rockwall Gymnastics Academy celebrate their first year in business. We will have a ribbon cutting\, gymnastics activities\, food and a lot of fun!
LOCATION:Rockwall Gymnastics Academy 1201 Ridge Road\, Suite 103 Rockwall\, TX 75087
UID:e.1175.138385
SEQUENCE:3
DTSTAMP:20260425T144403Z
URL:http://rockwallvisitorscaptivate.preview.gochambermaster.com/events/details/rga-anniversary-party-138385
END:VEVENT

END:VCALENDAR
