BEGIN:VCALENDAR
VERSION:2.0
PRODID:-//ChamberMaster//Event Calendar 2.0//EN
METHOD:PUBLISH
X-PUBLISHED-TTL:P3D
REFRESH-INTERVAL:P3D
CALSCALE:GREGORIAN
BEGIN:VEVENT
DTSTART;VALUE=DATE:20181231
DTEND;VALUE=DATE:20190102
TRANSP:TRANSPARENT
X-MICROSOFT-CDO-ALLDAYEVENT:TRUE
SUMMARY:Chamber Closed for New Year
DESCRIPTION:
X-ALT-DESC;FMTTYPE=text/html:
LOCATION:
UID:e.1175.138611
SEQUENCE:3
DTSTAMP:20260424T131849Z
URL:http://rockwallvisitorscaptivate.preview.gochambermaster.com/events/details/chamber-closed-for-new-year-138611
END:VEVENT

END:VCALENDAR
