BEGIN:VCALENDAR
VERSION:2.0
PRODID:-//ChamberMaster//Event Calendar 2.0//EN
METHOD:PUBLISH
X-PUBLISHED-TTL:P3D
REFRESH-INTERVAL:P3D
CALSCALE:GREGORIAN
BEGIN:VEVENT
DTSTART:20190505T223000Z
DTEND:20190506T013000Z
X-MICROSOFT-CDO-ALLDAYEVENT:FALSE
SUMMARY:American Gothic Art Auction and Dinner
DESCRIPTION:A fundraiser for the Rockwall County Historical Foundation\, wherein over 100 6"x6" original works of area artists will be auctioned.  Come enjoy great BBQ\, complimentary wine\, and the opportunity to buy art by your community artists!  We welcome art participation by anyone in any medium\; come by the Museum and pick up a 6 x 6" canvas.  See website for further details.
X-ALT-DESC;FMTTYPE=text/html:A fundraiser for the Rockwall County Historical Foundation\, wherein over 100 6&quot\;x6&quot\; original works of area artists will be auctioned.&nbsp\; Come enjoy great BBQ\, complimentary wine\, and the opportunity to buy art by your community artists!&nbsp\; We welcome art participation by anyone in any medium\; come by the Museum and pick up a 6 x 6&quot\; canvas.&nbsp\; See website for further details.
LOCATION:Summerfield at Tate Farms\, 12992 FM 548\, Rockwall\, TX 75032
UID:e.1175.138848
SEQUENCE:3
DTSTAMP:20260424T032342Z
URL:http://rockwallvisitorscaptivate.preview.gochambermaster.com/events/details/american-gothic-art-auction-and-dinner-138848
END:VEVENT

END:VCALENDAR
