BEGIN:VCALENDAR
VERSION:2.0
PRODID:-//ChamberMaster//Event Calendar 2.0//EN
METHOD:PUBLISH
X-PUBLISHED-TTL:P3D
REFRESH-INTERVAL:P3D
CALSCALE:GREGORIAN
BEGIN:VEVENT
DTSTART:20180418T143000Z
DTEND:20180418T163000Z
X-MICROSOFT-CDO-ALLDAYEVENT:FALSE
SUMMARY:6 Steps to a Winning Business
DESCRIPTION:Big Challenges for Growing Businesses & How to Overcome Them!\n\n\n\nWould you like more money in your pocket at the end of each month? Register for this event and learn time-tested principles of how to grow your business\, boost sales and massively increase your profits! Prepare yourself for greater success as you and other Texas business owners learn how to increase revenues and profits through our" 6 Steps to a Winning Business" workshop.\n\nFree up your time to focus on what is most important in your business. With a rock-solid sales & marketing machine\, your business will experience higher levels of sales and profits\, while creating raving fans. After this presentation\, you will want to create a "high-performing team" in your business which will allow you to leverage talent and build a cast-iron plan to ensure your goals are achieved!\n\nIf you are serious about your own success\, unwilling to settle for less\, then be sure to register for this workshop TODAY!\n\nYou will Learn how to:\n\n	Work ON your business instead of IN your business\n	Turn your advertising and marketing into an investment\, not an expense\n	Leverage your time to maximize efficiency and profits\n	Take immediate control of the time you spend at your business\n	Get the quality of life that you started your business for in the first place\n	Achieve Predictable and Profitable Growth\n	Boost your Profits by 61% or more\n	Increase the Value of Your Business\n	Make Your Products/Services Stand Out\n\nLight breakfast and coffee provided.\n\nWork Smarter\, Not Harder! Reserve Your Seat(s) Today!
X-ALT-DESC;FMTTYPE=text/html:<h2>Big Challenges for Growing Businesses &amp\; How to Overcome Them!</h2>\n\n<div>\n<hr /></div>\nWould you like more money in your pocket at the end of each month? Register for this event and learn time-tested principles of how to grow your business\, boost sales and massively increase your profits! Prepare yourself for greater success as you and other Texas business owners learn how to increase revenues and profits through our&rdquo\; 6 Steps to a Winning Business&rdquo\; workshop.<br />\nFree up your time to focus on what is most important in your business. With a rock-solid sales &amp\; marketing machine\, your business will experience higher levels of sales and profits\, while creating raving fans. After this presentation\, you will want to create a &quot\;high-performing team&quot\; in your business which will allow you to leverage talent and build a cast-iron plan to ensure your goals are achieved!<br />\nIf you are serious about your own success\, unwilling to settle for less\, then be sure to register for this workshop TODAY!<br />\nYou will Learn how to:\n<ul>\n	<li>Work ON your business instead of IN your business</li>\n	<li>Turn your advertising and marketing into an investment\, not an expense</li>\n	<li>Leverage your time to maximize efficiency and profits</li>\n	<li>Take immediate control of the time you spend at your business</li>\n	<li>Get the quality of life that you started your business for in the first place</li>\n	<li>Achieve Predictable and Profitable Growth</li>\n	<li>Boost your Profits by 61% or more</li>\n	<li>Increase the Value of Your Business</li>\n	<li>Make Your Products/Services Stand Out</li>\n</ul>\nLight breakfast and coffee provided.\n\n<h2>Work Smarter\, Not Harder! Reserve Your Seat(s) Today!</h2>\n
LOCATION:
UID:e.1175.136030
SEQUENCE:3
DTSTAMP:20260425T214029Z
URL:http://rockwallvisitorscaptivate.preview.gochambermaster.com/events/details/6-steps-to-a-winning-business-136030
END:VEVENT

END:VCALENDAR
