BEGIN:VCALENDAR
VERSION:2.0
PRODID:-//ChamberMaster//Event Calendar 2.0//EN
METHOD:PUBLISH
X-PUBLISHED-TTL:P3D
REFRESH-INTERVAL:P3D
CALSCALE:GREGORIAN
BEGIN:VEVENT
DTSTART;VALUE=DATE:20201230
DTEND;VALUE=DATE:20201231
TRANSP:TRANSPARENT
X-MICROSOFT-CDO-ALLDAYEVENT:TRUE
SUMMARY:2021 Ladies' Giveaway Day Planner
DESCRIPTION:2021 Ladies Giveaway Day Planner \n\nThe Ladies' Giveaway Day Planner  will be sold for $100 to the consumer and includes two chances per month to win amazing prizes. Sponsorships are available and will include your logo featured in the planner and through social media as a premier sponsor. Each sponsorship includes a complimentary planner.
X-ALT-DESC;FMTTYPE=text/html:<em style="color: rgb(51\, 51\, 51)\; font-family: sans-serif\,Arial\,Verdana\,&amp\;quot\;Trebuchet MS&amp\;quot\;\; font-size: 13px\; font-style: italic\; font-variant: normal\; font-weight: 400\; letter-spacing: normal\; orphans: 2\; text-align: left\; text-decoration: none\; text-indent: 0px\; text-transform: none\; -webkit-text-stroke-width: 0px\; white-space: normal\; word-spacing: 0px\;"><strong>2021 Ladies Giveaway Day Planner&nbsp\;</strong></em><br style="color: rgb(51\, 51\, 51)\; font-family: sans-serif\,Arial\,Verdana\,&amp\;quot\;Trebuchet MS&amp\;quot\;\; font-size: 13px\; font-style: normal\; font-variant: normal\; font-weight: 400\; letter-spacing: normal\; orphans: 2\; text-align: left\; text-decoration: none\; text-indent: 0px\; text-transform: none\; -webkit-text-stroke-width: 0px\; white-space: normal\; word-spacing: 0px\;" />\n<span style="display: inline !important\; float: none\; background-color: rgb(255\, 255\, 255)\; color: rgb(51\, 51\, 51)\; cursor: text\; font-family: sans-serif\,Arial\,Verdana\,&quot\;Trebuchet MS&quot\;\; font-size: 13px\; font-style: normal\; font-variant: normal\; font-weight: 400\; letter-spacing: normal\; line-height: 1.6\; orphans: 2\; text-align: left\; text-decoration: none\; text-indent: 0px\; text-transform: none\; -webkit-text-stroke-width: 0px\; white-space: normal\; word-spacing: 0px\;">The Ladies&#39\; Giveaway Day Planner&nbsp\; will be sold for $100 to the consumer and includes two chances per month to win amazing prizes. Sponsorships are available and will include your logo featured in the planner and through social media as a premier sponsor. Each sponsorship includes a complimentary planner.&nbsp\;</span>
LOCATION:
UID:e.1175.139849
SEQUENCE:3
DTSTAMP:20260420T070657Z
URL:http://rockwallvisitorscaptivate.preview.gochambermaster.com/events/details/2021-ladies-giveaway-day-planner-139849
END:VEVENT

END:VCALENDAR
